BEGIN:VCALENDAR
VERSION:2.0
PRODID:-//Casa del Lago UNAM - ECPv5.6.0//NONSGML v1.0//EN
CALSCALE:GREGORIAN
METHOD:PUBLISH
X-WR-CALNAME:Casa del Lago UNAM
X-ORIGINAL-URL:https://casadellago.unam.mx/nuevo
X-WR-CALDESC:Eventos para Casa del Lago UNAM
BEGIN:VTIMEZONE
TZID:America/Chicago
BEGIN:DAYLIGHT
TZOFFSETFROM:-0600
TZOFFSETTO:-0500
TZNAME:CDT
DTSTART:20190310T080000
END:DAYLIGHT
BEGIN:STANDARD
TZOFFSETFROM:-0500
TZOFFSETTO:-0600
TZNAME:CST
DTSTART:20191103T070000
END:STANDARD
END:VTIMEZONE
BEGIN:VEVENT
DTSTART;TZID=America/Chicago:20190407T170000
DTEND;TZID=America/Chicago:20190407T190000
DTSTAMP:20260425T090634
CREATED:20190327T200209Z
LAST-MODIFIED:20210603T195256Z
UID:4910-1554656400-1554663600@casadellago.unam.mx
SUMMARY:Terminator
DESCRIPTION:James Cameron | EUA | 1984 | 108´\nCiclo: Machos Biónicos\nColaboración: Mórbido\nSala Lumière | 17:00\nDomingo 7 de abril\, 2019\nEntrada libre\n–\nLos Ángeles\, año 2029. Las máquinas dominan el mundo. Los rebeldes que luchan contra ellas tienen como líder a John Connor\, un hombre que nació en los años ochenta. Para acabar con la rebelión\, las máquinas deciden enviar al pasado a un robot -Terminator- cuya misión será eliminar a Sarah Connor\, la madre de John\, e impedir así su nacimiento.
URL:https://casadellago.unam.mx/nuevo/evento/terminator
CATEGORIES:Cine
ATTACH;FMTTYPE=image/jpeg:https://casadellago.unam.mx/nuevo/wp-content/uploads/2019/03/Domingo-7-Terminator.jpg
END:VEVENT
END:VCALENDAR