BEGIN:VCALENDAR
VERSION:2.0
PRODID:-//Casa del Lago UNAM - ECPv5.6.0//NONSGML v1.0//EN
CALSCALE:GREGORIAN
METHOD:PUBLISH
X-WR-CALNAME:Casa del Lago UNAM
X-ORIGINAL-URL:https://casadellago.unam.mx/nuevo
X-WR-CALDESC:Eventos para Casa del Lago UNAM
BEGIN:VTIMEZONE
TZID:America/Chicago
BEGIN:DAYLIGHT
TZOFFSETFROM:-0600
TZOFFSETTO:-0500
TZNAME:CDT
DTSTART:20200308T080000
END:DAYLIGHT
BEGIN:STANDARD
TZOFFSETFROM:-0500
TZOFFSETTO:-0600
TZNAME:CST
DTSTART:20201101T070000
END:STANDARD
END:VTIMEZONE
BEGIN:VEVENT
DTSTART;TZID=America/Chicago:20200229T130000
DTEND;TZID=America/Chicago:20200229T140000
DTSTAMP:20260422T131111
CREATED:20200116T203251Z
LAST-MODIFIED:20210603T172000Z
UID:13677-1582981200-1582984800@casadellago.unam.mx
SUMMARY:Selector Pro CDMX
DESCRIPTION:Equity & Exchange\nTalleres | conferencias | conciertos | networking \nSelector Pro es una iniciativa global del British Council que opera en diferentes países y tiene como fin abordar temas cruciales para el desarrollo de la gestión musical. En su llegada a México en complicidad con NODO.TV y Casa del Lago UNAM\, adopta la forma de un encuentro musical\, con talleres\, conferencias\, actos en vivo y networking. Su vertiente principal está compuesta de artistas invitados provenientes del Reino Unido y Latinoamérica. \nDos de los pilares en los que se debe cimentar la nueva industria musical son la equidad y el intercambio\, por esto el programa explora el significado de estos dos valores a través de sus actividades. \nDesde el inicio\, las distintas vertientes Selector Pro CDMX tendrán un encuentro con su audiencia\, sin mediaciones\, en entornos que abran a detalle las posibilidades de la comunidad musical. Estas vertientes se irán alimentando hasta confluir en un encuentro general\, dos jornadas en las que podrá integrarse y al mismo tiempo celebrarse\, esta creatividad compartida. \nRegistrate ahora: http://bit.ly/SelectorProCDMX \n–\nColaboración: British Council y NODO TV\nSábado 29 de febrero y domingo 1 de marzo | 13:00 a 19:00\nEntrada libre\, registro previo
URL:https://casadellago.unam.mx/nuevo/evento/selector-pro-cdmx
CATEGORIES:Música
ATTACH;FMTTYPE=image/png:https://casadellago.unam.mx/nuevo/wp-content/uploads/2020/01/web-selector-pro-.png
END:VEVENT
END:VCALENDAR