BEGIN:VCALENDAR
VERSION:2.0
PRODID:-//Casa del Lago UNAM - ECPv5.6.0//NONSGML v1.0//EN
CALSCALE:GREGORIAN
METHOD:PUBLISH
X-WR-CALNAME:Casa del Lago UNAM
X-ORIGINAL-URL:https://casadellago.unam.mx/nuevo
X-WR-CALDESC:Eventos para Casa del Lago UNAM
BEGIN:VTIMEZONE
TZID:America/Chicago
BEGIN:DAYLIGHT
TZOFFSETFROM:-0600
TZOFFSETTO:-0500
TZNAME:CDT
DTSTART:20200308T080000
END:DAYLIGHT
BEGIN:STANDARD
TZOFFSETFROM:-0500
TZOFFSETTO:-0600
TZNAME:CST
DTSTART:20201101T070000
END:STANDARD
END:VTIMEZONE
BEGIN:VEVENT
DTSTART;TZID=America/Chicago:20200903T170000
DTEND;TZID=America/Chicago:20200903T180000
DTSTAMP:20260424T220926
CREATED:20200901T033214Z
LAST-MODIFIED:20220902T195300Z
UID:17173-1599152400-1599156000@casadellago.unam.mx
SUMMARY:SAMA
DESCRIPTION:Sesiones de escucha sostenida: SAMA del canto monofónico al drone\n2/8 – Un oído en éxtasis. El misticismo en la música como práctica emancipatoria\nCon Guillermo García Pérez\, periodista cultural\, investigador y ensayista \nEl presente se fragmenta\, se complejiza\, dispersa sus referentes y ofrece pocos puntos de apoyo. La música forma parte irremediable de ese proceso pero\, si escarbamos suficientemente en la historia y acompañamos su abanico de propuestas\, encontramos campos sonoros que ofrecen experiencias sensitivas de otro tipo: extendidas\, amplias\, sostenidas en el tiempo\, que exigen una escucha profunda y un involucramiento corporal íntegro. Campos cercanos a la experiencia mística. Teniendo como punto de partida la obra de Hildegard von Bingen (Alemania\, 1078-1179\, escritora\, filósofa\, médica y mística\, figura fundamental en la historia de la música)\, SAMA ––término del sufismo para referirse a la práctica de una audición profunda que induce al trance–– visitará todo tipo de propuestas musicales\, incluyendo varias sesiones en vivo\, alrededor de esta idea y en relación a los ecos de la producción interdisciplinaria\, con enfoque en el sonido\, en el presente que habitamos. Ante tiempos convulsos\, escucha sostenida. \nA partir del 6 de agosto comienza en Casa del Lago UNAM la serie semanal Hildegard von Bingen\, que cada jueves del mes revisará la obra de esta multifacética creadora del siglo XII\, cuya labor en la escritura\, la música\, la ciencia\, la medicina tradicional y otros campos de conocimiento revela un gran legado y permite revisar líneas paralelas\, cercanas o de continuidad en distintos planos del arte y la música actuales. Acompañados por el ensayista y artista Guillermo García Pérez\, Casa del Lago UNAM ofrecerá un formato híbrido\, en el que desde sus instalaciones y con materiales visuales y sonoros\, se dará un recorrido vía streaming por la obra de esta mujer mística de la Edad Media y la revisión transversal de su legado que permita atender también materiales visuales y sonoros contemporáneos en la obra de otras creadoras\, nuestras nuevas pioneras. \n \n–\nTransmisión en vivo desde Youtube\nSala Rosario Castellanos Virtual
URL:https://casadellago.unam.mx/nuevo/evento/sama-2
CATEGORIES:Música
ATTACH;FMTTYPE=image/png:https://casadellago.unam.mx/nuevo/wp-content/uploads/2020/08/3_sama_2.png
END:VEVENT
END:VCALENDAR