BEGIN:VCALENDAR
VERSION:2.0
PRODID:-//Casa del Lago UNAM - ECPv5.6.0//NONSGML v1.0//EN
CALSCALE:GREGORIAN
METHOD:PUBLISH
X-WR-CALNAME:Casa del Lago UNAM
X-ORIGINAL-URL:https://casadellago.unam.mx/nuevo
X-WR-CALDESC:Eventos para Casa del Lago UNAM
BEGIN:VTIMEZONE
TZID:America/Chicago
BEGIN:DAYLIGHT
TZOFFSETFROM:-0600
TZOFFSETTO:-0500
TZNAME:CDT
DTSTART:20190310T080000
END:DAYLIGHT
BEGIN:STANDARD
TZOFFSETFROM:-0500
TZOFFSETTO:-0600
TZNAME:CST
DTSTART:20191103T070000
END:STANDARD
END:VTIMEZONE
BEGIN:VEVENT
DTSTART;TZID=America/Chicago:20190929T150000
DTEND;TZID=America/Chicago:20190929T170000
DTSTAMP:20260424T193236
CREATED:20190829T164441Z
LAST-MODIFIED:20210603T192308Z
UID:8896-1569769200-1569776400@casadellago.unam.mx
SUMMARY:Maclovia
DESCRIPTION:Dir. Emilio Fernández “El Indio” | México| 1948 | 105′\nCiclo: Retrospectiva Emilio Fernández\, “El Indio” 115 años\nColaboración: Filmoteca UNAM\nSala Lumière \nMaclovia es una bella indígena de la isla de Janitzio\, enamorada de un pescador. Ambos esperan casarse cuando él pueda comprar su propia lancha para pescar en el lago. En sus vidas se presentan diversos obstáculos como un sargento que\, enamorado de Maclovia\, manda encarcelar al pescador para poder acosarla libremente.
URL:https://casadellago.unam.mx/nuevo/evento/maclovia
CATEGORIES:Cine
ATTACH;FMTTYPE=image/png:https://casadellago.unam.mx/nuevo/wp-content/uploads/2019/08/web-maclovia.png
END:VEVENT
END:VCALENDAR