BEGIN:VCALENDAR
VERSION:2.0
PRODID:-//Casa del Lago UNAM - ECPv5.6.0//NONSGML v1.0//EN
CALSCALE:GREGORIAN
METHOD:PUBLISH
X-WR-CALNAME:Casa del Lago UNAM
X-ORIGINAL-URL:https://casadellago.unam.mx/nuevo
X-WR-CALDESC:Eventos para Casa del Lago UNAM
BEGIN:VTIMEZONE
TZID:America/Chicago
BEGIN:DAYLIGHT
TZOFFSETFROM:-0600
TZOFFSETTO:-0500
TZNAME:CDT
DTSTART:20190310T080000
END:DAYLIGHT
BEGIN:STANDARD
TZOFFSETFROM:-0500
TZOFFSETTO:-0600
TZNAME:CST
DTSTART:20191103T070000
END:STANDARD
END:VTIMEZONE
BEGIN:VEVENT
DTSTART;TZID=America/Chicago:20191020T170000
DTEND;TZID=America/Chicago:20191020T190000
DTSTAMP:20260425T064308
CREATED:20190928T000732Z
LAST-MODIFIED:20210603T202926Z
UID:9875-1571590800-1571598000@casadellago.unam.mx
SUMMARY:Exterminio 2
DESCRIPTION:Juan Carlos Fresnadillo | Reino Unido | 2007 | 99’\nCiclo: Con aroma a zombie\nColaboración: Mórbido\nSala Lumière \nMeses después de que un virus arrasara las Islas Británicas\, el ejército de Estados Unidos declara que\, vencida la epidemia\, la reconstrucción del país es factible. Los evacuados regresan y las familias se reúnen de nuevo. Sin embargo\, el virus no ha sido destruido y es más peligroso que nunca.
URL:https://casadellago.unam.mx/nuevo/evento/exterminio-2
CATEGORIES:Cine
ATTACH;FMTTYPE=image/jpeg:https://casadellago.unam.mx/nuevo/wp-content/uploads/2019/09/web-exterminio-2.jpg
END:VEVENT
END:VCALENDAR